BEGIN:VCALENDAR
VERSION:2.0
PRODID:-//Town of Bonnyville - ECPv6.15.15//NONSGML v1.0//EN
CALSCALE:GREGORIAN
METHOD:PUBLISH
X-WR-CALNAME:Town of Bonnyville
X-ORIGINAL-URL:https://town.bonnyville.ab.ca
X-WR-CALDESC:Events for Town of Bonnyville
REFRESH-INTERVAL;VALUE=DURATION:PT1H
X-Robots-Tag:noindex
X-PUBLISHED-TTL:PT1H
BEGIN:VTIMEZONE
TZID:America/Edmonton
BEGIN:DAYLIGHT
TZOFFSETFROM:-0700
TZOFFSETTO:-0600
TZNAME:MDT
DTSTART:20250309T090000
END:DAYLIGHT
BEGIN:STANDARD
TZOFFSETFROM:-0600
TZOFFSETTO:-0700
TZNAME:MST
DTSTART:20251102T080000
END:STANDARD
BEGIN:DAYLIGHT
TZOFFSETFROM:-0700
TZOFFSETTO:-0600
TZNAME:MDT
DTSTART:20260308T090000
END:DAYLIGHT
BEGIN:STANDARD
TZOFFSETFROM:-0600
TZOFFSETTO:-0700
TZNAME:MST
DTSTART:20261101T080000
END:STANDARD
BEGIN:DAYLIGHT
TZOFFSETFROM:-0700
TZOFFSETTO:-0600
TZNAME:MDT
DTSTART:20270314T090000
END:DAYLIGHT
BEGIN:STANDARD
TZOFFSETFROM:-0600
TZOFFSETTO:-0700
TZNAME:MST
DTSTART:20271107T080000
END:STANDARD
END:VTIMEZONE
BEGIN:VEVENT
DTSTART;TZID=America/Edmonton:20260319T133000
DTEND;TZID=America/Edmonton:20260319T150000
DTSTAMP:20260420T042510
CREATED:20260303T182203Z
LAST-MODIFIED:20260303T182203Z
UID:10001362-1773927000-1773932400@town.bonnyville.ab.ca
SUMMARY:Wiggles and Giggles Baby Group
DESCRIPTION:
URL:https://town.bonnyville.ab.ca/event/wiggles-and-giggles-baby-group-2/2026-03-19/
ATTACH;FMTTYPE=image/jpeg:https://town.bonnyville.ab.ca/wp-content/uploads/2026/03/644193428_1248208390759259_5837248430906103678_n.jpg
END:VEVENT
END:VCALENDAR